BEGIN:VCALENDAR
VERSION:2.0
PRODID:-//APAN Romania - ECPv6.15.18//NONSGML v1.0//EN
CALSCALE:GREGORIAN
METHOD:PUBLISH
X-WR-CALNAME:APAN Romania
X-ORIGINAL-URL:https://afectiuni-neurodegenerative.ro
X-WR-CALDESC:Evenimente pentru APAN Romania
REFRESH-INTERVAL;VALUE=DURATION:PT1H
X-Robots-Tag:noindex
X-PUBLISHED-TTL:PT1H
BEGIN:VTIMEZONE
TZID:Europe/Moscow
BEGIN:STANDARD
TZOFFSETFROM:+0300
TZOFFSETTO:+0300
TZNAME:MSK
DTSTART:20240101T000000
END:STANDARD
END:VTIMEZONE
BEGIN:VEVENT
DTSTART;TZID=Europe/Moscow:20250719T110000
DTEND;TZID=Europe/Moscow:20250719T140000
DTSTAMP:20260420T185038
CREATED:20250717T194515Z
LAST-MODIFIED:20260207T114138Z
UID:10165-1752922800-1752933600@afectiuni-neurodegenerative.ro
SUMMARY:SMall Talks Caffe - Bucuresti - Editia a 3-a
DESCRIPTION:Dragilor\, vă invităm cu bucurie la ediția a 3-a Small Talks Caffe\, un spațiu de liniște\, conectare și curaj pentru persoanele care trăiesc cu scleroză multiplă.\n Aici vorbim deschis\, fără presiune\, despre provocări\, soluții și puterea comunității. Ne ascultăm\, ne susținem și ne inspirăm unii pe alții. De această dată\, vom avea alături de noi și un invitat special – psihoterapeut Mădălina Manea\, care va fi alături de noi la cafea pentru o discuție deschisă despre emoții\, adaptare și cum ne putem sprijini mai bine\, zi de zi.\n Locatia: Stradale Campus 6.1\, Bulevardul Iuliu Maniu 6l [Data] : Sâmbăta 19 Iulie [Ora] : Ne găsești în intervalul 11:00-14:00\nIntrarea este liberă\, dar locurile sunt limitate. Pentru a participa\, te rugăm să ne scrii un mesaj privat sau să completezi formularul de înscriere: https://forms.gle/zgXehkC2baRHkHac9\n Hai să construim împreună un spațiu în care nimeni nu se simte singur în fața SM.\n\n#SmallTalksCaffe #SMcomunitate #APANRomania #SclerozaMultipla
URL:https://afectiuni-neurodegenerative.ro/evenimente/small-talks-caffe-bucuresti-editia-a-3-a/
LOCATION:Stradale Campus 6.1\, Bulevardul Iuliu Maniu 6l\, Bucuresti\, Romania
END:VEVENT
BEGIN:VEVENT
DTSTART;TZID=Europe/Moscow:20250725T183000
DTEND;TZID=Europe/Moscow:20250725T200000
DTSTAMP:20260420T185038
CREATED:20250717T201519Z
LAST-MODIFIED:20250718T041351Z
UID:10171-1753468200-1753473600@afectiuni-neurodegenerative.ro
SUMMARY:Psihoterapie de grup Online - persoane cu scleroza multipla si apartinatori
DESCRIPTION:Data: 25 Iulie 2025 Ora: 18:30-20:00 Locație: Online (veți primi linkul după înscriere\, cu 2h înainte de începutul evenimentului pe e-mail și prin SMS cu 30 min înainte de început)\nInvitata noastră specială este Mădălina Manea\, psihoterapeut\, care va vorbi despre importanța sprijinului psihoterapeutic în gestionarea provocărilor zilnice ale sclerozei multiple.\nVom discuta despre: Cum ne poate ajuta psihoterapia în gestionarea emoțiilor Rolul întâlnirilor online în crearea unui spațiu de siguranță și sprijin Puterea comunității și importanța conexiunilor dintre noi\n Ne întâlnim ca între prieteni\, pentru a împărtăși\, a învăța și a ne susține reciproc!\n Înscrieri: https://forms.gle/Sb68kMWPqSLwyX196\nTe așteptăm cu drag! 
URL:https://afectiuni-neurodegenerative.ro/evenimente/psihoterapie-de-grup-online-persoane-cu-scleroza-multipla-si-apartinatori/
LOCATION:Online
END:VEVENT
END:VCALENDAR